 
BEGIN:VCALENDAR
VERSION:2.0
PRODID:-//FFESSM - CoDep 06 - ECPv6.15.20//NONSGML v1.0//EN
CALSCALE:GREGORIAN
METHOD:PUBLISH
X-WR-CALNAME:FFESSM - CoDep 06
X-ORIGINAL-URL:http://codep06.ffessm.fr
X-WR-CALDESC:Évènements pour FFESSM - CoDep 06
REFRESH-INTERVAL;VALUE=DURATION:PT1H
X-Robots-Tag:noindex
X-PUBLISHED-TTL:PT1H
BEGIN:VTIMEZONE
TZID:Europe/Paris
BEGIN:DAYLIGHT
TZOFFSETFROM:+0100
TZOFFSETTO:+0200
TZNAME:CEST
DTSTART:20160327T010000
END:DAYLIGHT
BEGIN:STANDARD
TZOFFSETFROM:+0200
TZOFFSETTO:+0100
TZNAME:CET
DTSTART:20161030T010000
END:STANDARD
BEGIN:DAYLIGHT
TZOFFSETFROM:+0100
TZOFFSETTO:+0200
TZNAME:CEST
DTSTART:20170326T010000
END:DAYLIGHT
BEGIN:STANDARD
TZOFFSETFROM:+0200
TZOFFSETTO:+0100
TZNAME:CET
DTSTART:20171029T010000
END:STANDARD
BEGIN:DAYLIGHT
TZOFFSETFROM:+0100
TZOFFSETTO:+0200
TZNAME:CEST
DTSTART:20180325T010000
END:DAYLIGHT
BEGIN:STANDARD
TZOFFSETFROM:+0200
TZOFFSETTO:+0100
TZNAME:CET
DTSTART:20181028T010000
END:STANDARD
END:VTIMEZONE
BEGIN:VEVENT
DTSTART;VALUE=DATE:20170624
DTEND;VALUE=DATE:20170626
DTSTAMP:20260422T091247
CREATED:20170703T105554Z
LAST-MODIFIED:20170703T105554Z
UID:199-1498262400-1498435199@codep06.ffessm.fr
SUMMARY:Stage Initial Initiateur
DESCRIPTION:Le CODEP 06 organise les 24 et 24 juin au CF 06 à Golfe Juan un stage initial Initiateur \nIl y a possibilité d’organiser un stage TSI (tuteur d’initiateur ) s’il y a des candidats\ncontact ; sebastien.gourdet@libertysurf.fr\nInscription sur le site de la CTR ;:www.ctr-ffessmcotedazur.fr/
URL:http://codep06.ffessm.fr/evenement/stage-initial-initiateur/
LOCATION:Centre de Formation 06\, 14 Avenue de Belgique\, Golfe-Juan\, 06220\, France
CATEGORIES:Technique
END:VEVENT
END:VCALENDAR